Workbook
Name Activity_1: 'Badge Details'!$B$2:$B$26
Name Activity_2: 'Badge Details'!#REF!
Name Badges: 'Order Summary'!$B$16:$B$26
Name Challenge: 'Badge Details'!$E$5:$E$12
Name Gold: 'Badge Details'!$H$35
Name Group: 'Badge Details'!$H$35:$H$37
Name Moving_On: 'Badge Details'!#REF!
Name Participation: 'Badge Details'!$E$32:$E$38
Name Patrol: 'Badge Details'!$K$2:$K$36
Name Postage: 'Order Summary'!$E$32
Name Staged_Activity: 'Badge Details'!#REF!

Sheet Order Summary
A1: Rushcliffe District Scout Council - EXPLORERS
A2: Charity No: 522469
A3: Please enter required badges on Badge Details tab - greyed boxes on this tab will automatically update.
A4: Email to address below. Thanks!
A5: Cheques payable to: | C5: To: | D5: Katrina Thorley
A6: Rushcliffe District Badge Account | D6: Hillend
A7: BACS to: | D7: 167 Nottingham Road
A8: Rushcliffe District Badge Account | D8: Gotham
A9: Sort code - 54-21-47 | D9: Nottingham
A10: Account number - 29733898 | D10: NG11 0HA
A11: Money with order please | C11: Tel.: | D11: 07810 698226
A12: ="Date: " & TEXT(TODAY(),"dd/mm/yy") -> Date: 08/12/24 | C12: E-mail: | D12: rushcliffebadges@gmail.com
A14: Explorers
A15: Please note new prices from 9/12/24 | B15: Number | C15: Price | D15: Value
A16: World Membership | C16: 0.9 | D16: =B16*C16 -> 0
A17: County-District Badge | C17: 1 | D17: =B17*C17 -> 0
A18: Explorer Activity Badges | B18: =SUM(Activity_1) -> 0 | C18: 0.9 | D18: =B18*C18 -> 0
A19: Joining In Award Badge | B19: =SUM('Badge Details'!E17:E24) -> 0 | C19: 0.9 | D19: =B19*C19 -> 0
A20: Staged Activity Badges | B20: =SUM('Badge Details'!H2:H47) -> 0 | C20: 0.9 | D20: =B20*C20 -> 0
A21: Young Leader | B21: =SUM('Badge Details'!E6:E8) -> 0 | C21: 0.9 | D21: =B21*C21 -> 0
A22: Chief Scout Platinum/Diamond | B22: =SUM('Badge Details'!E2:E3) -> 0 | C22: 0.9 | D22: =B22*C22 -> 0
A23: Moving on Award | C23: 0.9 | D23: =B23*C23 -> 0
A24: Duke of Edinburgh Award | B24: =SUM('Badge Details'!E27:E29) -> 0 | C24: 1 | D24: =B24*C24 -> 0
A25: Young Leaders Awards | B25: =SUM('Badge Details'!E6:E8) -> 0 | C25: 0.9 | D25: =B25*C25 -> 0
A26: Name Tape Order Form (144) | C26: 20 | D26: =B26*C26 -> 0
A27: You Shape badges | B27: =SUM('Badge Details'!E11:E14) -> 0 | C27: 0.9 | D27: =B27*C27 -> 0
A28: Oak Challenge Awards | C28: 1 | D28: =B28*C28 -> 0
A29: NOTE: Grey cells are auto-calculated from Badge Sheet | C29: Total | D29: =SUM(D16:D28) -> 0
C30: P&P | D30: =ROUNDUP(SUM(Badges)/100,0)*Postage -> 0
C31: Total | D31: =D29+D30 -> 0
D32: Postage for each 100 badges or part thereof = | E32: 1.5
A34: Group:
A35: Name:
A36: Address:

Sheet Badge Details
A1: Activity Badges | B1: Qty | D1: Chief Awards | E1: Qty | G1: Staged Activity Badges | H1: Qty
A2: Acvitity Centre Service | D2: Chief Platinum | G2: Emergency Aid 1
A3: Athletics | D3: Chief Diamond | G3: Emergency Aid 2
A4: Camper | G4: Emergency Aid 3
A5: Caving | D5: Young Leaders Badges | E5: Qty | G5: Emergency Aid 4
A6: Chef | D6: Young leaders A | G6: Emergency Aid 5
A7: Climber | D7: Young Leaders Mission | G7: Hikes Away 1
A8: Creative arts | D8: Young Leaders Recog | G8: Hikes Away 2
A9: Fundraising | G9: Hikes Away 5
A10: Global issues | D10: You Shape Badges | E10: Qty | G10: Hikes Away 10
A11: Hill walker | D11: You Shape Central | G11: Hikes Away 15
A12: International | D12: You Shape Plan | G12: Hikes Away 20
A13: Leadership | D13: You Shape Lead | G13: Hikes Away 35
A14: Media & Marketing | D14: You Shape Represent | G14: Hikes Away 50
A15: Lifesaver | G15: Musician 1
A16: Motor sports | D16: Joining in Awards | E16: Qty | G16: Musician 2
A17: Mountain biking | D17: Joining In 1 | G17: Musician 3
A18: Naturalist | D18: Joining In 2 | G18: Musician 4
A19: Performing arts | D19: Joining In 3 | G19: Musician 5
A20: Physical recreation | D20: Joining In 4 | G20: Nights Away 1
A21: Pioneer | D21: Joining In 5 | G21: Nights Away 2
A22: Racquet sports | D22: Joining In 6 | G22: Nights Away 3
A23: Science & Tech | D23: Joining In 7 | G23: Nights Away 4
A24: Street Sports | D24: Joining In 8 | G24: Nights Away 5
A25: Water actvities | G25: Nights Away 10
A26: Survival skills | D26: Duke of Edinburgh | E26: Qty | G26: Nights Away 15
D27: Bronze | G27: Nights Away 20
D28: Silver | G28: Nights Away 35
D29: Gold | G29: Nights Away 50
G30: Nights Away 75
G31: Nights Away 100
G32: Nights Away 125
G33: Nights Away 150
G34: Nights Away 200
G35: Swimmer 1
G36: Swimmer 2
G37: Swimmer 3
G38: Swimmer 4
G39: Swimmer 5
G40: Time on the Water 1
G41: Time on the Water 2
... G47: Time on the Water 50
