Workbook
Name Activity: 'Badge Details'!$B$2:$B$23
Name Badges: 'Order Summary'!$B$16:$B$28
Name Challenge: 'Badge Details'!$E$6:$E$11
Name Moving_On: 'Badge Details'!$E$2:$E$3
Name Participation: 'Badge Details'!$E$14:$E$21
Name Postage: 'Order Summary'!$E$33
Name Staged_Activity: 'Badge Details'!$H$2:$H$48

Sheet Order Summary
A1: Rushcliffe District Scout Council - BEAVERS
A2: Charity No: 522469
A3: Please enter required badges on Badge Details tab - greyed boxes on this tab will automatically update.
A4: Save as a new file with your Group Name and email to rushcliffebadges@gmail.com
A5: Cheques payable to: | C5: To: | D5: Katrina Thorley
A6: Rushcliffe District Badge Account | D6: Hillend
A7: BACS to: | D7: 167 Nottingham Road
A8: Rushcliffe District Badge Account | D8: Gotham
A9: Sort Code - 54-21-47 | D9: Nottingham
A10: Account number: 29733898 | D10: NG11 0HA
A11: Money with order please | C11: Tel.: | D11: 07810 698226
A12: ="Date: " & TEXT(TODAY(),"dd/mm/yy") -> Date: 08/12/24 | C12: E-mail: | D12: rushcliffebadges@gmail.com
A14: Beavers
A15: Please note new prices from 9/12/24 | B15: Number | C15: Price | D15: Value
A16: World Membership | C16: 0.9 | D16: =B16*C16 -> 0
A17: County-District Badge | C17: 1 | D17: =B17*C17 -> 0
A18: Name Tape Order Form (144) | C18: 20 | D18: =B18*C18 -> 0
A19: Challenge Awards | B19: =SUM(Challenge) -> 0 | C19: 0.9 | D19: =B19*C19 -> 0
A20: Moving on Awards | B20: =SUM('Badge Details'!E2) -> 0 | C20: 0.9 | D20: =B20*C20 -> 0
A21: Chief Scout's Bronze Award | C21: 0.9 | D21: =B21*C21 -> 0
A22: Beaver Activity Badges | B22: =SUM('Badge Details'!B2:B24) -> 0 | C22: 0.9 | D22: =B22*C22 -> 0
A23: Joining in Awards | B23: =SUM('Badge Details'!E14:E16) -> 0 | C23: 0.9 | D23: =B23*C23 -> 0
A24: Staged Activities | B24: =SUM('Badge Details'!H2:H92) -> 0 | C24: 0.9 | D24: =B24*C24 -> 0
A25: Beaver Junior/Lodge Leader | C25: 0.9 | D25: =B25*C25 -> 0
A26: You Shape | B26: =SUM('Badge Details'!B27:B30) -> 0 | C26: 0.9 | D26: =B26*C26 -> 0
A27: Oak Challenge Awards | C27: 1 | D27: =B27*C27 -> 0
A29: Total number of badges ordered = | B29: =SUM(Badges) -> 0 | C29: Total | D29: =SUM(D16:D28) -> 0
A30: NOTE: Grey cells are auto-calculated from Badge Sheet | C30: P&P | D30: =ROUNDUP(SUM(Badges)/100,0)*Postage -> 0
C31: Total | D31: =D29+D30 -> 0
D33: Postage for each 100 badges or part thereof = | E33: 1.5
A35: Colony:
A37: Name:
A38: Address:

Sheet Badge Details
A1: Activity Badges | B1: Qty | D1: Moving On Awards | E1: Qty | G1: Staged Activity Badges | H1: Qty
A2: Animal friend | D2: Beavers To Cubs | G2: Air activities 1
A3: Book reader | G3: 2
A4: Builder | G4: 3
A5: Camp craft | D5: Challenge Awards | E5: Qty | G5: 4
A6: Collector | D6: Adventure Challenge | G6: 5
A7: Communicator | D7: My World Challenge | G7: 6
A8: Cook | D8: Outdoor Challenge | G8: Community Impact 1
A9: Creative | D9: Personal Challenge | G9: 2
A10: Cyclist | D10: Skills Challenge | G10: 3
A11: Disability | D11: Teamwork Challenge | G11: 4
A12: Experiment | G12: Digital Citizen 1
A13: Explore | D13: Joining in Awards | E13: Qty | G13: 2
A14: Faith | D14: Joining in 1 | G14: 3
A15: Gardener | D15: Joining in 2 | G15: 4
A16: Global | D16: Joining in 3 | G16: Digital Maker 1
A17: Health/fitness | G17: 2
A18: Hobbies | G18: 3
A19: International | G19: 4
A20: Money Skills | G20: 5
A21: Photographer | G21: Emergency Aid 1
A22: Safety | G22: 2
A23: Space | G23: 3
A24: Sport | G24: 4
A26: You Shape badges | B26: Qty | G26: 5
A27: You Shape Central | G27: Hikes Away 1
A28: You Shape Plan | G28: 2
A29: You Shape Lead | G29: 5
A30: You Shape Represent | G30: 10
G31: 15
G32: 20
G33: 35
G34: 50
G35: Musician 1
G36: 2
G37: 3
G38: 4
G39: 5
G40: Nights Away 1
G41: 2
...
